BEGIN:VCALENDAR
VERSION:2.0
PRODID:icalendar-ruby
CALSCALE:GREGORIAN
METHOD:PUBLISH
BEGIN:VEVENT
DTSTAMP:20260422T012546Z
UID:2-1266983@augustanalutheran.com
DTSTART:20261011T143000Z
DTEND:20261011T153000Z
CLASS:PUBLIC
CREATED:20260421T200925
DESCRIPTION:Here is where you can inlcude the event information and descrip
 tion along with any registration information if needed.
LAST-MODIFIED:20260421T200925
LOCATION:Lehr Library
SUMMARY:Adult Forum
URL;VALUE=URI:https://www.augustanalutheran.com/events/adult-forum/2026-10-
 11
ATTACH;FILENAME=Adult-Forum.jpg;FMTTYPE=image/jpeg:https://dq5pwpg1q8ru0.cl
 oudfront.net/2024/05/28/15/07/42/e70689ac-9a38-43d9-8002-0047080c739f/Adul
 t-Forum.jpg
END:VEVENT
END:VCALENDAR
