BEGIN:VCALENDAR
VERSION:2.0
PRODID:icalendar-ruby
CALSCALE:GREGORIAN
METHOD:PUBLISH
BEGIN:VEVENT
DTSTAMP:20260423T235057Z
UID:13-1280670@augustanalutheran.com
DTSTART:20261008T180000Z
DTEND:20261008T190000Z
CLASS:PUBLIC
CREATED:20260423T160036
DESCRIPTION:
LAST-MODIFIED:20260423T160036
LOCATION:Sunday School Classroom
SUMMARY:Tai Chi
URL;VALUE=URI:https://www.augustanalutheran.com/events/tai-chi--13/2026-10-
 08
ATTACH;FILENAME=Tai-Chi.jpeg;FMTTYPE=image/jpeg:https://dq5pwpg1q8ru0.cloud
 front.net/2024/06/06/15/01/46/4289ec1a-f2d5-46de-953d-56e901158ab3/Tai-Chi
 .jpeg
END:VEVENT
END:VCALENDAR
